BEGIN:VCALENDAR
VERSION:2.0
PRODID:-//ShalomChor - ECPv6.15.18//NONSGML v1.0//EN
CALSCALE:GREGORIAN
METHOD:PUBLISH
X-WR-CALNAME:ShalomChor
X-ORIGINAL-URL:https://shalomchor.de
X-WR-CALDESC:Veranstaltungen für ShalomChor
REFRESH-INTERVAL;VALUE=DURATION:PT1H
X-Robots-Tag:noindex
X-PUBLISHED-TTL:PT1H
BEGIN:VTIMEZONE
TZID:Europe/Berlin
BEGIN:DAYLIGHT
TZOFFSETFROM:+0100
TZOFFSETTO:+0200
TZNAME:CEST
DTSTART:20190331T010000
END:DAYLIGHT
BEGIN:STANDARD
TZOFFSETFROM:+0200
TZOFFSETTO:+0100
TZNAME:CET
DTSTART:20191027T010000
END:STANDARD
BEGIN:DAYLIGHT
TZOFFSETFROM:+0100
TZOFFSETTO:+0200
TZNAME:CEST
DTSTART:20200329T010000
END:DAYLIGHT
BEGIN:STANDARD
TZOFFSETFROM:+0200
TZOFFSETTO:+0100
TZNAME:CET
DTSTART:20201025T010000
END:STANDARD
BEGIN:DAYLIGHT
TZOFFSETFROM:+0100
TZOFFSETTO:+0200
TZNAME:CEST
DTSTART:20210328T010000
END:DAYLIGHT
BEGIN:STANDARD
TZOFFSETFROM:+0200
TZOFFSETTO:+0100
TZNAME:CET
DTSTART:20211031T010000
END:STANDARD
END:VTIMEZONE
BEGIN:VEVENT
DTSTART;TZID=Europe/Berlin:20201205T150000
DTEND;TZID=Europe/Berlin:20201205T190000
DTSTAMP:20260420T165102
CREATED:20201019T070620Z
LAST-MODIFIED:20201125T101157Z
UID:4514-1607180400-1607194800@shalomchor.de
SUMMARY:SKS Generalprobe für Konzert in Wegberg-Beeck    entfällt!!!
DESCRIPTION:SKS- Generalprobe für Sonntag 22.11.2020 in der Pfarrkirche St. Vincentius \n 
URL:https://shalomchor.de/event/konzert-in-wegberg-2/
LOCATION:St. Vincentius\, Kirchplatz 5\, Wegberg-Beeck\, 41844
CATEGORIES:Shpil, Klezmer, shpil!
END:VEVENT
BEGIN:VEVENT
DTSTART;TZID=Europe/Berlin:20201206T180000
DTEND;TZID=Europe/Berlin:20201206T193000
DTSTAMP:20260420T165102
CREATED:20191124T165056Z
LAST-MODIFIED:20201125T101220Z
UID:4149-1607277600-1607283000@shalomchor.de
SUMMARY:SKS Konzert in Wegberg-Beeck    entfällt!!!
DESCRIPTION:Konzert Shpil\, Klezmer shpil in der Pfarrkirche St. Vincentius\, 41844 Wegberg-Beeck\, Holtumer Straße 27 \nVeranstalterr OPUS 512 e.V.
URL:https://shalomchor.de/event/konzert-in-wegberg/
LOCATION:St. Vincentius\, Kirchplatz 5\, Wegberg-Beeck\, 41844
CATEGORIES:Shpil, Klezmer, shpil!,Veranstaltung
END:VEVENT
END:VCALENDAR