BEGIN:VCALENDAR
VERSION:2.0
PRODID:-//ShalomChor - ECPv6.15.18//NONSGML v1.0//EN
CALSCALE:GREGORIAN
METHOD:PUBLISH
X-WR-CALNAME:ShalomChor
X-ORIGINAL-URL:https://shalomchor.de
X-WR-CALDESC:Veranstaltungen für ShalomChor
REFRESH-INTERVAL;VALUE=DURATION:PT1H
X-Robots-Tag:noindex
X-PUBLISHED-TTL:PT1H
BEGIN:VTIMEZONE
TZID:Europe/Berlin
BEGIN:DAYLIGHT
TZOFFSETFROM:+0100
TZOFFSETTO:+0200
TZNAME:CEST
DTSTART:20190331T010000
END:DAYLIGHT
BEGIN:STANDARD
TZOFFSETFROM:+0200
TZOFFSETTO:+0100
TZNAME:CET
DTSTART:20191027T010000
END:STANDARD
BEGIN:DAYLIGHT
TZOFFSETFROM:+0100
TZOFFSETTO:+0200
TZNAME:CEST
DTSTART:20200329T010000
END:DAYLIGHT
BEGIN:STANDARD
TZOFFSETFROM:+0200
TZOFFSETTO:+0100
TZNAME:CET
DTSTART:20201025T010000
END:STANDARD
BEGIN:DAYLIGHT
TZOFFSETFROM:+0100
TZOFFSETTO:+0200
TZNAME:CEST
DTSTART:20210328T010000
END:DAYLIGHT
BEGIN:STANDARD
TZOFFSETFROM:+0200
TZOFFSETTO:+0100
TZNAME:CET
DTSTART:20211031T010000
END:STANDARD
END:VTIMEZONE
BEGIN:VEVENT
DTSTART;VALUE=DATE:20201116
DTEND;VALUE=DATE:20201117
DTSTAMP:20260420T182003
CREATED:20200910T163835Z
LAST-MODIFIED:20200910T164223Z
UID:4475-1605484800-1605571199@shalomchor.de
SUMMARY:Reise nach Jerusalem - Anmeldung bis 16. Nov.
DESCRIPTION:Liebe Mitglieder und Freunde des ShalomChores und „Shpil\, Klezmer\, shpil“! \nNach der beglückenden Erfahrung mit der Heilig-Land-Reise zu Ostern 2019 wollen wir nun zur besten Reisezeit Pfingsten\, dem Fest des Heiligen Geistes und der Begeisterung\, wieder eine Pilger- und Studienfahrt dorthin wagen. Das Programm\, dass gemeinsam mit dem Reiseveranstalter DVHL Heilig-Land-Reisen GmbH (https://www.heilig-land-reisen.de/heilig-land-reisen) sorgfältig ausgearbeitet wurde\, bietet uns diesmal eine abwechslungsreiche Verbindung von Antike und Moderne\, von Touristischem und Spirituellem. \nDie prachtvolle Pfingstliturgie in der Dormitiokirche der deutschsprachigen Benediktinerabtei auf dem Berg Zion\, die Gedächtnisstätte Yad Vashem\, die Weihnachtskirche palästinensischer Christen in Bethlehem\, das besonders mit moderner Kunst beeindruckende Israel Museum sowie die heiligen Stätten der drei monotheistischen Religion werden uns unter anderem an den ersten vier Tagen in und um Jerusalem begeistern. Anschließend folgen wir am See Gennesaret zwei Tage lang Jesu Spuren in Galiläa\, bevor wir die letzten beiden Reisetage entspannend an der Mittelmeerküste in Jaffa und Tel Aviv verbringen. \nWeitere Informationen finden sich in der beiliegenden Reiseausschreibung des DVHL\, der wie auch ich bis zum 16.11.2020 die Anmeldungen entgegen nimmt. In freudiger Erwartung einer inspirierenden Reise stehe ich gerne bei Rückfragen zur Verfügung. (Tel.: 02431 70807; 0177 9299257) \n  \nLiebe Grüße\, Shalom und Salam \nHorst Couson \n702721-2_Couson - Reiseprogramm Covid-19\, Maßnahmen und Empfehlungen der DVHL Heilig-Land-Reisen GmbH Einladung - In früheren Zeiten Reisebedingungen+Formblatt_2020
URL:https://shalomchor.de/event/reise-nach-jerusalem/
CATEGORIES:Shalom Chor,Shpil, Klezmer, shpil!,Veranstaltung
ATTACH;FMTTYPE=image/jpeg:https://shalomchor.de/wp-content/uploads/2020/09/image003.jpg
END:VEVENT
BEGIN:VEVENT
DTSTART;TZID=Europe/Berlin:20201118T190000
DTEND;TZID=Europe/Berlin:20201118T194500
DTSTAMP:20260420T182003
CREATED:20200123T120608Z
LAST-MODIFIED:20201019T065845Z
UID:4272-1605726000-1605728700@shalomchor.de
SUMMARY:Gottesdienst zum Buss-und Bettag (Paul-Schneider-Haus )   entfällt!!!
DESCRIPTION:
URL:https://shalomchor.de/event/gottesdienst-zum-buss-und-bettag-paul-schneider-haus/
LOCATION:Paul-Schneider-Haus\, Charlottenstraße 16\, Mönchengladbach\, 41065\, Deutschland
CATEGORIES:Shalom Chor,Veranstaltung
END:VEVENT
BEGIN:VEVENT
DTSTART;TZID=Europe/Berlin:20201125T200000
DTEND;TZID=Europe/Berlin:20201125T210000
DTSTAMP:20260420T182003
CREATED:20200208T125831Z
LAST-MODIFIED:20201019T070132Z
UID:4292-1606334400-1606338000@shalomchor.de
SUMMARY:Konzert in der Reihe "open CARL"   entfällt!!!
DESCRIPTION:Konzert  in der Reihe „open CARL“ \nDie Zeche Carl in Essen-Altenessen veranstaltet seit drei Jahren mit Carnap-Art erfolgreich die regelmäßige Reihe „open CARL.- Runter vom Sofa – rauf auf die Bühne!“ \, eine open Stage / offene Bühne für Musiker und Fans der Akustik-Musik. \nOrt: Zeche Carl in Essen-Altenessen \,Wilhelm-Nieswandt-Allee 100 – 45326 Essen \n  \n 
URL:https://shalomchor.de/event/konzert-in-der-reihe-%c2%a7open-carl/
LOCATION:Zeche CARL\, Wilhelm-Nieswandt-Allee 100\, Essen-Altenessen\, 45326\, Deutschland
CATEGORIES:Shpil, Klezmer, shpil!,Veranstaltung
ATTACH;FMTTYPE=image/jpeg:https://shalomchor.de/wp-content/uploads/2019/09/Molzmühle-1.jpg
END:VEVENT
BEGIN:VEVENT
DTSTART;VALUE=DATE:20201128
DTEND;VALUE=DATE:20201130
DTSTAMP:20260420T182003
CREATED:20200113T083952Z
LAST-MODIFIED:20201125T101134Z
UID:4255-1606521600-1606694399@shalomchor.de
SUMMARY:Probenwochende (nur) Band SKS    entfällt!!!
DESCRIPTION:Proben für die nächsten Konzerte \nWasserburg Rindern
URL:https://shalomchor.de/event/probenwochende-shalomchor-2-2/
LOCATION:Wasserburg Rindern\, Wasserburgallee 120\, Kleve\, NRW\, 47533\, Deutschland
CATEGORIES:Shpil, Klezmer, shpil!
ATTACH;FMTTYPE=image/jpeg:https://shalomchor.de/wp-content/uploads/2017/12/DSC00629.jpg
END:VEVENT
END:VCALENDAR