BEGIN:VCALENDAR
VERSION:2.0
PRODID:-//ShalomChor - ECPv6.15.18//NONSGML v1.0//EN
CALSCALE:GREGORIAN
METHOD:PUBLISH
X-WR-CALNAME:ShalomChor
X-ORIGINAL-URL:https://shalomchor.de
X-WR-CALDESC:Veranstaltungen für ShalomChor
REFRESH-INTERVAL;VALUE=DURATION:PT1H
X-Robots-Tag:noindex
X-PUBLISHED-TTL:PT1H
BEGIN:VTIMEZONE
TZID:Europe/Berlin
BEGIN:DAYLIGHT
TZOFFSETFROM:+0100
TZOFFSETTO:+0200
TZNAME:CEST
DTSTART:20190331T010000
END:DAYLIGHT
BEGIN:STANDARD
TZOFFSETFROM:+0200
TZOFFSETTO:+0100
TZNAME:CET
DTSTART:20191027T010000
END:STANDARD
BEGIN:DAYLIGHT
TZOFFSETFROM:+0100
TZOFFSETTO:+0200
TZNAME:CEST
DTSTART:20200329T010000
END:DAYLIGHT
BEGIN:STANDARD
TZOFFSETFROM:+0200
TZOFFSETTO:+0100
TZNAME:CET
DTSTART:20201025T010000
END:STANDARD
BEGIN:DAYLIGHT
TZOFFSETFROM:+0100
TZOFFSETTO:+0200
TZNAME:CEST
DTSTART:20210328T010000
END:DAYLIGHT
BEGIN:STANDARD
TZOFFSETFROM:+0200
TZOFFSETTO:+0100
TZNAME:CET
DTSTART:20211031T010000
END:STANDARD
END:VTIMEZONE
BEGIN:VEVENT
DTSTART;TZID=Europe/Berlin:20200519T190000
DTEND;TZID=Europe/Berlin:20200519T210000
DTSTAMP:20260421T041848
CREATED:20200113T083011Z
LAST-MODIFIED:20200809T083226Z
UID:4249-1589914800-1589922000@shalomchor.de
SUMMARY:KLEZTREFF  entfällt!!!
DESCRIPTION:Klezmerworkshop im BIS
URL:https://shalomchor.de/event/kleztreff-8-2/
LOCATION:BIS -zentrum\, Bismarckstr. 97-99\, Mönchengladbach\, NRW\, 41061\, Deutschland
CATEGORIES:Shpil, Klezmer, shpil!,Veranstaltung
ATTACH;FMTTYPE=image/png:https://shalomchor.de/wp-content/uploads/2016/04/SKS_Instrumental.png
END:VEVENT
BEGIN:VEVENT
DTSTART;TZID=Europe/Berlin:20200529T200000
DTEND;TZID=Europe/Berlin:20200529T220000
DTSTAMP:20260421T041848
CREATED:20191124T164918Z
LAST-MODIFIED:20200809T083221Z
UID:4147-1590782400-1590789600@shalomchor.de
SUMMARY:Musiknacht in Erkelenz  entfällt!!!
DESCRIPTION:ShalomChor und SKS gestalten die traditionelle Musiknacht in Erkelenz mit\, in der Solisten\, Orchester und Bands mit besonderer Live- Musik an ungewöhnlichen Orten und zugunsten einer guten Sache aufspielen. Veranstalter :Kultur GmbH der Stadt Erkelenz
URL:https://shalomchor.de/event/musiknacht-in-erkelenz/
CATEGORIES:Shalom Chor,Shpil, Klezmer, shpil!,Veranstaltung
ATTACH;FMTTYPE=image/jpeg:https://shalomchor.de/wp-content/uploads/2019/11/Musiknacht-Erkelenz.jpg
END:VEVENT
END:VCALENDAR