BEGIN:VCALENDAR
VERSION:2.0
PRODID:-//ShalomChor - ECPv6.15.18//NONSGML v1.0//EN
CALSCALE:GREGORIAN
METHOD:PUBLISH
X-ORIGINAL-URL:https://shalomchor.de
X-WR-CALDESC:Veranstaltungen für ShalomChor
REFRESH-INTERVAL;VALUE=DURATION:PT1H
X-Robots-Tag:noindex
X-PUBLISHED-TTL:PT1H
BEGIN:VTIMEZONE
TZID:Europe/Berlin
BEGIN:DAYLIGHT
TZOFFSETFROM:+0100
TZOFFSETTO:+0200
TZNAME:CEST
DTSTART:20190331T010000
END:DAYLIGHT
BEGIN:STANDARD
TZOFFSETFROM:+0200
TZOFFSETTO:+0100
TZNAME:CET
DTSTART:20191027T010000
END:STANDARD
BEGIN:DAYLIGHT
TZOFFSETFROM:+0100
TZOFFSETTO:+0200
TZNAME:CEST
DTSTART:20200329T010000
END:DAYLIGHT
BEGIN:STANDARD
TZOFFSETFROM:+0200
TZOFFSETTO:+0100
TZNAME:CET
DTSTART:20201025T010000
END:STANDARD
BEGIN:DAYLIGHT
TZOFFSETFROM:+0100
TZOFFSETTO:+0200
TZNAME:CEST
DTSTART:20210328T010000
END:DAYLIGHT
BEGIN:STANDARD
TZOFFSETFROM:+0200
TZOFFSETTO:+0100
TZNAME:CET
DTSTART:20211031T010000
END:STANDARD
END:VTIMEZONE
BEGIN:VEVENT
DTSTART;TZID=Europe/Berlin:20200421T190000
DTEND;TZID=Europe/Berlin:20200421T210000
DTSTAMP:20260421T061722
CREATED:20200206T074517Z
LAST-MODIFIED:20200809T083248Z
UID:4283-1587495600-1587502800@shalomchor.de
SUMMARY:KLEZTREFF   entfällt!!!
DESCRIPTION:Klezmerworkshop im BIS
URL:https://shalomchor.de/event/kleztreff-8-2-2-2-2/
LOCATION:BIS -zentrum\, Bismarckstr. 97-99\, Mönchengladbach\, NRW\, 41061\, Deutschland
CATEGORIES:Shpil, Klezmer, shpil!,Veranstaltung
ATTACH;FMTTYPE=image/png:https://shalomchor.de/wp-content/uploads/2016/04/SKS_Instrumental.png
END:VEVENT
BEGIN:VEVENT
DTSTART;TZID=Europe/Berlin:20200426T104500
DTEND;TZID=Europe/Berlin:20200426T130000
DTSTAMP:20260421T061722
CREATED:20191101T135008Z
LAST-MODIFIED:20200809T083242Z
UID:4081-1587897900-1587906000@shalomchor.de
SUMMARY:Gottesdienst und Konzert i.d. Ev.Kirche Wegberg  entfällt!!!
DESCRIPTION:
URL:https://shalomchor.de/event/gottesdienst-und-konzert-i-d-ev-kirche-wegberg/
LOCATION:Ev. Kirche Wegberg\, Martin-Luther-Str. 9\, Wegberg\, 41844\, Deutschland
CATEGORIES:Shalom Chor,Shpil, Klezmer, shpil!,Veranstaltung
ATTACH;FMTTYPE=image/gif:https://shalomchor.de/wp-content/uploads/2019/11/ekwlogo.gif
END:VEVENT
BEGIN:VEVENT
DTSTART;TZID=Europe/Berlin:20200426T130000
DTEND;TZID=Europe/Berlin:20200426T170000
DTSTAMP:20260421T061722
CREATED:20200208T125336Z
LAST-MODIFIED:20200809T083237Z
UID:4289-1587906000-1587920400@shalomchor.de
SUMMARY:SKS-Probe  entfällt!!!
DESCRIPTION:Pfarrsaal Hardterbroich
URL:https://shalomchor.de/event/sks-probe-2/
LOCATION:St.Bonifatius\, Hardterbroicher Straße 62\, Mönchengladbach\, 41065\, Deutschland
CATEGORIES:Shpil, Klezmer, shpil!
END:VEVENT
BEGIN:VEVENT
DTSTART;TZID=Europe/Berlin:20200429T193000
DTEND;TZID=Europe/Berlin:20200429T213000
DTSTAMP:20260421T061722
CREATED:20191101T140112Z
LAST-MODIFIED:20200809T083232Z
UID:4085-1588188600-1588195800@shalomchor.de
SUMMARY:Konzert mit jiddischer Musik zur Finnissage der Ausstellung "Du Jude"  abgesagt!
DESCRIPTION:
URL:https://shalomchor.de/event/konzert-mit-jiddischer-musik-zur-finnissage-der-ausstellung-du-jude/
LOCATION:Kulturkirche Herzogenrath-Straß\, Josefstraße 6\, Herzogenrath-Straß\, 52134\, Deutschland
CATEGORIES:Shpil, Klezmer, shpil!,Veranstaltung
ATTACH;FMTTYPE=image/png:https://shalomchor.de/wp-content/uploads/2019/11/Kulturkirche_Straß.png
END:VEVENT
END:VCALENDAR