BEGIN:VCALENDAR
VERSION:2.0
PRODID:-//ShalomChor - ECPv6.15.18//NONSGML v1.0//EN
CALSCALE:GREGORIAN
METHOD:PUBLISH
X-ORIGINAL-URL:https://shalomchor.de
X-WR-CALDESC:Veranstaltungen für ShalomChor
REFRESH-INTERVAL;VALUE=DURATION:PT1H
X-Robots-Tag:noindex
X-PUBLISHED-TTL:PT1H
BEGIN:VTIMEZONE
TZID:Europe/Berlin
BEGIN:DAYLIGHT
TZOFFSETFROM:+0100
TZOFFSETTO:+0200
TZNAME:CEST
DTSTART:20190331T010000
END:DAYLIGHT
BEGIN:STANDARD
TZOFFSETFROM:+0200
TZOFFSETTO:+0100
TZNAME:CET
DTSTART:20191027T010000
END:STANDARD
BEGIN:DAYLIGHT
TZOFFSETFROM:+0100
TZOFFSETTO:+0200
TZNAME:CEST
DTSTART:20200329T010000
END:DAYLIGHT
BEGIN:STANDARD
TZOFFSETFROM:+0200
TZOFFSETTO:+0100
TZNAME:CET
DTSTART:20201025T010000
END:STANDARD
BEGIN:DAYLIGHT
TZOFFSETFROM:+0100
TZOFFSETTO:+0200
TZNAME:CEST
DTSTART:20210328T010000
END:DAYLIGHT
BEGIN:STANDARD
TZOFFSETFROM:+0200
TZOFFSETTO:+0100
TZNAME:CET
DTSTART:20211031T010000
END:STANDARD
END:VTIMEZONE
BEGIN:VEVENT
DTSTART;TZID=Europe/Berlin:20200304T190000
DTEND;TZID=Europe/Berlin:20200304T200000
DTSTAMP:20260421T075819
CREATED:20200123T120122Z
LAST-MODIFIED:20200809T083316Z
UID:4268-1583348400-1583352000@shalomchor.de
SUMMARY:Jahreshauptversammlung ShalomChor e.V.
DESCRIPTION:Jahreshauptversammlung ShalomChor e.V. \nim Paul-Schneider-Haus
URL:https://shalomchor.de/event/jahreshauptversammlung-shalomchor-e-v/
LOCATION:Paul-Schneider-Haus\, Charlottenstraße 16\, Mönchengladbach\, 41065\, Deutschland
CATEGORIES:Shalom Chor
END:VEVENT
BEGIN:VEVENT
DTSTART;TZID=Europe/Berlin:20200306T150000
DTEND;TZID=Europe/Berlin:20200306T160000
DTSTAMP:20260421T075819
CREATED:20200118T100630Z
LAST-MODIFIED:20200809T083308Z
UID:4259-1583506800-1583510400@shalomchor.de
SUMMARY:Weltgebetstag der Frauen
DESCRIPTION:Der Shalomchor gestaltet am Internationalen Frauentag musikalisch den Gottesdienst zum \n„Weltgebetstag der Frauen“ \nam Freitag\, den 6 März 2020 – 15.00-16:00 Uhr \nin St. Bonifatius\, Hardterbroich
URL:https://shalomchor.de/event/weltgebetstag-der-frauen/
LOCATION:St.Bonifatius\, Hardterbroicher Straße 62\, Mönchengladbach\, 41065\, Deutschland
CATEGORIES:Shalom Chor,Veranstaltung
END:VEVENT
BEGIN:VEVENT
DTSTART;TZID=Europe/Berlin:20200310T190000
DTEND;TZID=Europe/Berlin:20200310T210000
DTSTAMP:20260421T075819
CREATED:20200206T075014Z
LAST-MODIFIED:20200809T083303Z
UID:4285-1583866800-1583874000@shalomchor.de
SUMMARY:KLEZTREFF
DESCRIPTION:Klezmerworkshop im BIS
URL:https://shalomchor.de/event/kleztreff-8-2-2-2-2-2/
LOCATION:BIS -zentrum\, Bismarckstr. 97-99\, Mönchengladbach\, NRW\, 41061\, Deutschland
CATEGORIES:Shpil, Klezmer, shpil!,Veranstaltung
ATTACH;FMTTYPE=image/png:https://shalomchor.de/wp-content/uploads/2016/04/SKS_Instrumental.png
END:VEVENT
BEGIN:VEVENT
DTSTART;TZID=Europe/Berlin:20200328T153000
DTEND;TZID=Europe/Berlin:20200328T163000
DTSTAMP:20260421T075819
CREATED:20191206T163538Z
LAST-MODIFIED:20200809T083257Z
UID:4157-1585409400-1585413000@shalomchor.de
SUMMARY:Konzert im Helmut-Kuhlen-Haus  entfällt!!!
DESCRIPTION:
URL:https://shalomchor.de/event/konzert-im-helmut-kuhlen-haus/
LOCATION:Helmut-Kuhlen-Haus\, Bendhecker Str. 40\, Mönchengladbach-Rheydt\, 41236\, Deutschland
CATEGORIES:Shalom Chor,Shpil, Klezmer, shpil!,Veranstaltung
ATTACH;FMTTYPE=image/jpeg:https://shalomchor.de/wp-content/uploads/2019/12/Helmut-Kuhlen-Haus.jpg
END:VEVENT
END:VCALENDAR