BEGIN:VCALENDAR
VERSION:2.0
PRODID:-//ShalomChor - ECPv6.15.18//NONSGML v1.0//EN
CALSCALE:GREGORIAN
METHOD:PUBLISH
X-WR-CALNAME:ShalomChor
X-ORIGINAL-URL:https://shalomchor.de
X-WR-CALDESC:Veranstaltungen für ShalomChor
REFRESH-INTERVAL;VALUE=DURATION:PT1H
X-Robots-Tag:noindex
X-PUBLISHED-TTL:PT1H
BEGIN:VTIMEZONE
TZID:Europe/Berlin
BEGIN:DAYLIGHT
TZOFFSETFROM:+0100
TZOFFSETTO:+0200
TZNAME:CEST
DTSTART:20190331T010000
END:DAYLIGHT
BEGIN:STANDARD
TZOFFSETFROM:+0200
TZOFFSETTO:+0100
TZNAME:CET
DTSTART:20191027T010000
END:STANDARD
BEGIN:DAYLIGHT
TZOFFSETFROM:+0100
TZOFFSETTO:+0200
TZNAME:CEST
DTSTART:20200329T010000
END:DAYLIGHT
BEGIN:STANDARD
TZOFFSETFROM:+0200
TZOFFSETTO:+0100
TZNAME:CET
DTSTART:20201025T010000
END:STANDARD
BEGIN:DAYLIGHT
TZOFFSETFROM:+0100
TZOFFSETTO:+0200
TZNAME:CEST
DTSTART:20210328T010000
END:DAYLIGHT
BEGIN:STANDARD
TZOFFSETFROM:+0200
TZOFFSETTO:+0100
TZNAME:CET
DTSTART:20211031T010000
END:STANDARD
END:VTIMEZONE
BEGIN:VEVENT
DTSTART;TZID=Europe/Berlin:20200211T190000
DTEND;TZID=Europe/Berlin:20200211T210000
DTSTAMP:20260421T094812
CREATED:20200206T073648Z
LAST-MODIFIED:20200809T083342Z
UID:4281-1581447600-1581454800@shalomchor.de
SUMMARY:KLEZTREFF
DESCRIPTION:Klezmerworkshop im BIS
URL:https://shalomchor.de/event/kleztreff-8-2-2-2/
LOCATION:BIS -zentrum\, Bismarckstr. 97-99\, Mönchengladbach\, NRW\, 41061\, Deutschland
CATEGORIES:Shpil, Klezmer, shpil!,Veranstaltung
ATTACH;FMTTYPE=image/png:https://shalomchor.de/wp-content/uploads/2016/04/SKS_Instrumental.png
END:VEVENT
BEGIN:VEVENT
DTSTART;TZID=Europe/Berlin:20200227T190000
DTEND;TZID=Europe/Berlin:20200227T200000
DTSTAMP:20260421T094812
CREATED:20191206T162947Z
LAST-MODIFIED:20200809T083337Z
UID:4152-1582830000-1582833600@shalomchor.de
SUMMARY:76. Jahrestag Kriegsende in Erkelenz  - Veranstaltung fällt aus !!
DESCRIPTION:Die Erinnerungsveranstaltung des Heimatvereins der Erkelenzer Lande im Alten Rathaus zu Erkelenz \nwird musikalisch durch das Klezmerensemble: Shpil\, Klezmer\, shpil begleitet.
URL:https://shalomchor.de/event/76-jahrestag-kriegsende-in-erkelenz/
LOCATION:Altes Rathaus Erkelenz\, Markt 25\, Erkelenz\, 41812\, Deutschland
CATEGORIES:Shpil, Klezmer, shpil!,Veranstaltung
ATTACH;FMTTYPE=image/jpeg:https://shalomchor.de/wp-content/uploads/2019/12/AltesRathuasERK.jpg
END:VEVENT
BEGIN:VEVENT
DTSTART;TZID=Europe/Berlin:20200229T100000
DTEND;TZID=Europe/Berlin:20200229T130000
DTSTAMP:20260421T094812
CREATED:20200208T125238Z
LAST-MODIFIED:20200809T083327Z
UID:4287-1582970400-1582981200@shalomchor.de
SUMMARY:SKS-Probe
DESCRIPTION:Pfarrsaal Hardterbroich
URL:https://shalomchor.de/event/sks-probe/
LOCATION:St.Bonifatius\, Hardterbroicher Straße 62\, Mönchengladbach\, 41065\, Deutschland
CATEGORIES:Shpil, Klezmer, shpil!
END:VEVENT
BEGIN:VEVENT
DTSTART;TZID=Europe/Berlin:20200229T190000
DTEND;TZID=Europe/Berlin:20200229T220000
DTSTAMP:20260421T094812
CREATED:20191101T134310Z
LAST-MODIFIED:20200809T083322Z
UID:4077-1583002800-1583013600@shalomchor.de
SUMMARY:Soirée in der Molzmühle
DESCRIPTION:Aufgrund der positiven Resonanz auf die beiden Jazz und Klezmer Matineen im Herbst haben wir uns zur einer weiteren Veranstaltung im ausgehenden Winter verabredet. Diesmal als Soiree mit humorvollen Ausflügen in die klösterlichen und dennoch kulinarischen Fastenzeiten.. „und wie aus Lämmern Schwimmtiere wurden…“
URL:https://shalomchor.de/event/soiree-in-der-molzmuehle/
LOCATION:Molzmühle\, In Bollenberg 41\, Wegberg - Rickelrath\, NRW\, 41844\, Deutschland
CATEGORIES:Shpil, Klezmer, shpil!,Veranstaltung
ATTACH;FMTTYPE=image/jpeg:https://shalomchor.de/wp-content/uploads/2019/10/WAL09754.jpg
END:VEVENT
END:VCALENDAR