BEGIN:VCALENDAR
VERSION:2.0
PRODID:-//ShalomChor - ECPv6.15.18//NONSGML v1.0//EN
CALSCALE:GREGORIAN
METHOD:PUBLISH
X-WR-CALNAME:ShalomChor
X-ORIGINAL-URL:https://shalomchor.de
X-WR-CALDESC:Veranstaltungen für ShalomChor
REFRESH-INTERVAL;VALUE=DURATION:PT1H
X-Robots-Tag:noindex
X-PUBLISHED-TTL:PT1H
BEGIN:VTIMEZONE
TZID:Europe/Berlin
BEGIN:DAYLIGHT
TZOFFSETFROM:+0100
TZOFFSETTO:+0200
TZNAME:CEST
DTSTART:20190331T010000
END:DAYLIGHT
BEGIN:STANDARD
TZOFFSETFROM:+0200
TZOFFSETTO:+0100
TZNAME:CET
DTSTART:20191027T010000
END:STANDARD
BEGIN:DAYLIGHT
TZOFFSETFROM:+0100
TZOFFSETTO:+0200
TZNAME:CEST
DTSTART:20200329T010000
END:DAYLIGHT
BEGIN:STANDARD
TZOFFSETFROM:+0200
TZOFFSETTO:+0100
TZNAME:CET
DTSTART:20201025T010000
END:STANDARD
BEGIN:DAYLIGHT
TZOFFSETFROM:+0100
TZOFFSETTO:+0200
TZNAME:CEST
DTSTART:20210328T010000
END:DAYLIGHT
BEGIN:STANDARD
TZOFFSETFROM:+0200
TZOFFSETTO:+0100
TZNAME:CET
DTSTART:20211031T010000
END:STANDARD
END:VTIMEZONE
BEGIN:VEVENT
DTSTART;TZID=Europe/Berlin:20200104T150000
DTEND;TZID=Europe/Berlin:20200104T180000
DTSTAMP:20260421T113404
CREATED:20190624T073716Z
LAST-MODIFIED:20200809T083350Z
UID:3866-1578150000-1578160800@shalomchor.de
SUMMARY:Generalprobe
DESCRIPTION:für Konzert am 5.1.2020
URL:https://shalomchor.de/event/generalprobe/
CATEGORIES:Shalom Chor,Shpil, Klezmer, shpil!,Veranstaltung
END:VEVENT
BEGIN:VEVENT
DTSTART;TZID=Europe/Berlin:20200105T170000
DTEND;TZID=Europe/Berlin:20200105T183000
DTSTAMP:20260421T113404
CREATED:20190525T092550Z
LAST-MODIFIED:20200809T083346Z
UID:3829-1578243600-1578249000@shalomchor.de
SUMMARY:KONZERT - Ein Lied kann eine Brücke sein
DESCRIPTION: 
URL:https://shalomchor.de/event/konzert/
LOCATION:St.Bonifatius\, Hardterbroicher Straße 62\, Mönchengladbach\, 41065\, Deutschland
CATEGORIES:Shalom Chor,Shpil, Klezmer, shpil!,Veranstaltung
ATTACH;FMTTYPE=image/jpeg:https://shalomchor.de/wp-content/uploads/2019/02/Krefeld-Plakat-1.jpg
END:VEVENT
END:VCALENDAR