BEGIN:VCALENDAR
VERSION:2.0
PRODID:-//ShalomChor - ECPv6.15.18//NONSGML v1.0//EN
CALSCALE:GREGORIAN
METHOD:PUBLISH
X-WR-CALNAME:ShalomChor
X-ORIGINAL-URL:https://shalomchor.de
X-WR-CALDESC:Veranstaltungen für ShalomChor
REFRESH-INTERVAL;VALUE=DURATION:PT1H
X-Robots-Tag:noindex
X-PUBLISHED-TTL:PT1H
BEGIN:VTIMEZONE
TZID:Europe/Berlin
BEGIN:DAYLIGHT
TZOFFSETFROM:+0100
TZOFFSETTO:+0200
TZNAME:CEST
DTSTART:20180325T010000
END:DAYLIGHT
BEGIN:STANDARD
TZOFFSETFROM:+0200
TZOFFSETTO:+0100
TZNAME:CET
DTSTART:20181028T010000
END:STANDARD
BEGIN:DAYLIGHT
TZOFFSETFROM:+0100
TZOFFSETTO:+0200
TZNAME:CEST
DTSTART:20190331T010000
END:DAYLIGHT
BEGIN:STANDARD
TZOFFSETFROM:+0200
TZOFFSETTO:+0100
TZNAME:CET
DTSTART:20191027T010000
END:STANDARD
BEGIN:DAYLIGHT
TZOFFSETFROM:+0100
TZOFFSETTO:+0200
TZNAME:CEST
DTSTART:20200329T010000
END:DAYLIGHT
BEGIN:STANDARD
TZOFFSETFROM:+0200
TZOFFSETTO:+0100
TZNAME:CET
DTSTART:20201025T010000
END:STANDARD
END:VTIMEZONE
BEGIN:VEVENT
DTSTART;TZID=Europe/Berlin:20191201T100000
DTEND;TZID=Europe/Berlin:20191201T180000
DTSTAMP:20260421T130312
CREATED:20190525T092236Z
LAST-MODIFIED:20200809T083417Z
UID:3825-1575194400-1575223200@shalomchor.de
SUMMARY:Probenwochende ShalomChor
DESCRIPTION:Proben für die nächsten Konzerte \nPfarrsaaal Hardterbroich
URL:https://shalomchor.de/event/probenwochende-shalomchor-2/
LOCATION:St.Bonifatius\, Hardterbroicher Straße 62\, Mönchengladbach\, 41065\, Deutschland
CATEGORIES:Shalom Chor,Shpil, Klezmer, shpil!
END:VEVENT
BEGIN:VEVENT
DTSTART;TZID=Europe/Berlin:20191215T153000
DTEND;TZID=Europe/Berlin:20191215T170000
DTSTAMP:20260421T130312
CREATED:20190227T091535Z
LAST-MODIFIED:20200809T083409Z
UID:3752-1576423800-1576429200@shalomchor.de
SUMMARY:Konzert - Ein Lied kann eine Brücke sein
DESCRIPTION: 
URL:https://shalomchor.de/event/adventliches-konzert/
LOCATION:Citykirche St. Dionysius\, Krefeld\, Dionisiusplatz\, Krefeld\, 47798\, Deutschland
CATEGORIES:Shalom Chor,Shpil, Klezmer, shpil!,Veranstaltung
ATTACH;FMTTYPE=image/jpeg:https://shalomchor.de/wp-content/uploads/2019/02/Krefeld-Plakat-1.jpg
END:VEVENT
BEGIN:VEVENT
DTSTART;TZID=Europe/Berlin:20191217T190000
DTEND;TZID=Europe/Berlin:20191217T210000
DTSTAMP:20260421T130312
CREATED:20190624T073159Z
LAST-MODIFIED:20200809T083405Z
UID:3861-1576609200-1576616400@shalomchor.de
SUMMARY:KLEZTREFF
DESCRIPTION:Klezmerworkshop im BIS
URL:https://shalomchor.de/event/kleztreff-8/
LOCATION:BIS -zentrum\, Bismarckstr. 97-99\, Mönchengladbach\, NRW\, 41061\, Deutschland
CATEGORIES:Shpil, Klezmer, shpil!,Veranstaltung
ATTACH;FMTTYPE=image/png:https://shalomchor.de/wp-content/uploads/2016/04/SKS_Instrumental.png
END:VEVENT
BEGIN:VEVENT
DTSTART;TZID=Europe/Berlin:20191225T000000
DTEND;TZID=Europe/Berlin:20191225T004500
DTSTAMP:20260421T130312
CREATED:20190624T073530Z
LAST-MODIFIED:20200809T083400Z
UID:3864-1577232000-1577234700@shalomchor.de
SUMMARY:Mitternachtswortgottesfeier
DESCRIPTION:Weihnachten – Hochfest der Geburt des Herrn \nMitternachtswortgottesfeier gestaltet durch den Shalom Chor
URL:https://shalomchor.de/event/mitternachts-wogo/
LOCATION:St.Bonifatius\, Hardterbroicher Straße 62\, Mönchengladbach\, 41065\, Deutschland
CATEGORIES:Shalom Chor,Veranstaltung
ATTACH;FMTTYPE=image/jpeg:https://shalomchor.de/wp-content/uploads/2016/11/Tannenbaum.jpg
END:VEVENT
BEGIN:VEVENT
DTSTART;TZID=Europe/Berlin:20191225T110000
DTEND;TZID=Europe/Berlin:20191225T120000
DTSTAMP:20260421T130312
CREATED:20191124T163701Z
LAST-MODIFIED:20200809T083355Z
UID:4144-1577271600-1577275200@shalomchor.de
SUMMARY:Gottesdienst zur Weihnacht in der JVA
DESCRIPTION:Hinweis: geschlossene Veranstaltung
URL:https://shalomchor.de/event/gottesdienst-zur-weihnacht-in-der-jva/
LOCATION:JVA\, Scharnhorststr.\, Mönchengaldbach\, 41061\, Deutschland
CATEGORIES:Shalom Chor,Veranstaltung
ATTACH;FMTTYPE=image/jpeg:https://shalomchor.de/wp-content/uploads/2018/12/WeihGitter.jpg
END:VEVENT
END:VCALENDAR