BEGIN:VCALENDAR
VERSION:2.0
PRODID:-//ShalomChor - ECPv6.15.18//NONSGML v1.0//EN
CALSCALE:GREGORIAN
METHOD:PUBLISH
X-WR-CALNAME:ShalomChor
X-ORIGINAL-URL:https://shalomchor.de
X-WR-CALDESC:Veranstaltungen für ShalomChor
REFRESH-INTERVAL;VALUE=DURATION:PT1H
X-Robots-Tag:noindex
X-PUBLISHED-TTL:PT1H
BEGIN:VTIMEZONE
TZID:Europe/Berlin
BEGIN:DAYLIGHT
TZOFFSETFROM:+0100
TZOFFSETTO:+0200
TZNAME:CEST
DTSTART:20180325T010000
END:DAYLIGHT
BEGIN:STANDARD
TZOFFSETFROM:+0200
TZOFFSETTO:+0100
TZNAME:CET
DTSTART:20181028T010000
END:STANDARD
BEGIN:DAYLIGHT
TZOFFSETFROM:+0100
TZOFFSETTO:+0200
TZNAME:CEST
DTSTART:20190331T010000
END:DAYLIGHT
BEGIN:STANDARD
TZOFFSETFROM:+0200
TZOFFSETTO:+0100
TZNAME:CET
DTSTART:20191027T010000
END:STANDARD
BEGIN:DAYLIGHT
TZOFFSETFROM:+0100
TZOFFSETTO:+0200
TZNAME:CEST
DTSTART:20200329T010000
END:DAYLIGHT
BEGIN:STANDARD
TZOFFSETFROM:+0200
TZOFFSETTO:+0100
TZNAME:CET
DTSTART:20201025T010000
END:STANDARD
END:VTIMEZONE
BEGIN:VEVENT
DTSTART;TZID=Europe/Berlin:20191008T190000
DTEND;TZID=Europe/Berlin:20191008T210000
DTSTAMP:20260421T164240
CREATED:20190624T073003Z
LAST-MODIFIED:20200809T083447Z
UID:3857-1570561200-1570568400@shalomchor.de
SUMMARY:KLEZTREFF
DESCRIPTION:Klezmer Workshop im BIS
URL:https://shalomchor.de/event/kleztreff-6/
LOCATION:BIS -zentrum\, Bismarckstr. 97-99\, Mönchengladbach\, NRW\, 41061\, Deutschland
CATEGORIES:Shpil, Klezmer, shpil!,Veranstaltung
ATTACH;FMTTYPE=image/png:https://shalomchor.de/wp-content/uploads/2016/04/SKS_Instrumental.png
END:VEVENT
BEGIN:VEVENT
DTSTART;TZID=Europe/Berlin:20191016T190000
DTEND;TZID=Europe/Berlin:20191016T200000
DTSTAMP:20260421T164240
CREATED:20190525T091804Z
LAST-MODIFIED:20200809T083442Z
UID:3819-1571252400-1571256000@shalomchor.de
SUMMARY:Wortgottesdienst  CITYKIRCHE
DESCRIPTION:Woche der seelischen Gesundheit
URL:https://shalomchor.de/event/wortgottesdienst-brandtskapelle/
LOCATION:Citykirche MG\, Kirchplatz 14\, Mönchengladbach\, 41061\, Deutschland
CATEGORIES:Shalom Chor,Veranstaltung
ATTACH;FMTTYPE=image/jpeg:https://shalomchor.de/wp-content/uploads/2019/05/citykirche-kirchplatz.jpeg
END:VEVENT
BEGIN:VEVENT
DTSTART;TZID=Europe/Berlin:20191026T133000
DTEND;TZID=Europe/Berlin:20191026T143000
DTSTAMP:20260421T164240
CREATED:20190209T161035Z
LAST-MODIFIED:20200809T083437Z
UID:3710-1572096600-1572100200@shalomchor.de
SUMMARY:Brautmesse
DESCRIPTION:(Salger) \nSt.Bonifatius Hardterborich
URL:https://shalomchor.de/event/brautmesse-2/
LOCATION:St.Bonifatius\, Hardterbroicher Straße 62\, Mönchengladbach\, 41065\, Deutschland
CATEGORIES:Shalom Chor,Veranstaltung
END:VEVENT
BEGIN:VEVENT
DTSTART;TZID=Europe/Berlin:20191027T120000
DTEND;TZID=Europe/Berlin:20191027T150000
DTSTAMP:20260421T164240
CREATED:20190809T083136Z
LAST-MODIFIED:20200809T083432Z
UID:3902-1572177600-1572188400@shalomchor.de
SUMMARY:Jazz- und Klezmer-Matinée
DESCRIPTION:Molzmühle \nIn Bollenberg 41 \n41844 Wegberg – Rickelrath \nTel. 02434 99770
URL:https://shalomchor.de/event/jazz-und-klezmer-matinee-2/
LOCATION:Molzmühle\, In Bollenberg 41\, Wegberg - Rickelrath\, NRW\, 41844\, Deutschland
CATEGORIES:Shpil, Klezmer, shpil!,Veranstaltung
ATTACH;FMTTYPE=image/jpeg:https://shalomchor.de/wp-content/uploads/2019/08/Kulinarische-Eintopf-Reise-um-die-Welt...-e1571295805406.jpg
END:VEVENT
END:VCALENDAR