BEGIN:VCALENDAR
VERSION:2.0
PRODID:-//ShalomChor - ECPv6.15.18//NONSGML v1.0//EN
CALSCALE:GREGORIAN
METHOD:PUBLISH
X-WR-CALNAME:ShalomChor
X-ORIGINAL-URL:https://shalomchor.de
X-WR-CALDESC:Veranstaltungen für ShalomChor
REFRESH-INTERVAL;VALUE=DURATION:PT1H
X-Robots-Tag:noindex
X-PUBLISHED-TTL:PT1H
BEGIN:VTIMEZONE
TZID:Europe/Berlin
BEGIN:DAYLIGHT
TZOFFSETFROM:+0100
TZOFFSETTO:+0200
TZNAME:CEST
DTSTART:20180325T010000
END:DAYLIGHT
BEGIN:STANDARD
TZOFFSETFROM:+0200
TZOFFSETTO:+0100
TZNAME:CET
DTSTART:20181028T010000
END:STANDARD
BEGIN:DAYLIGHT
TZOFFSETFROM:+0100
TZOFFSETTO:+0200
TZNAME:CEST
DTSTART:20190331T010000
END:DAYLIGHT
BEGIN:STANDARD
TZOFFSETFROM:+0200
TZOFFSETTO:+0100
TZNAME:CET
DTSTART:20191027T010000
END:STANDARD
BEGIN:DAYLIGHT
TZOFFSETFROM:+0100
TZOFFSETTO:+0200
TZNAME:CEST
DTSTART:20200329T010000
END:DAYLIGHT
BEGIN:STANDARD
TZOFFSETFROM:+0200
TZOFFSETTO:+0100
TZNAME:CET
DTSTART:20201025T010000
END:STANDARD
END:VTIMEZONE
BEGIN:VEVENT
DTSTART;TZID=Europe/Berlin:20190908T111500
DTEND;TZID=Europe/Berlin:20190908T121500
DTSTAMP:20260421T181801
CREATED:20190104T102811Z
LAST-MODIFIED:20200809T083505Z
UID:3356-1567941300-1567944900@shalomchor.de
SUMMARY:Gemeindefrühstück ev. Friedenskirche  Hardt
DESCRIPTION:Gemeindefest
URL:https://shalomchor.de/event/gemeindefruehstueck-ev-friedenskirche-hardt/
LOCATION:Friedenskirche-Hardt\, Vossenbäumchen 14\, Mönchengladbach\, 41169\, Deutschland
CATEGORIES:Veranstaltung
END:VEVENT
BEGIN:VEVENT
DTSTART;TZID=Europe/Berlin:20190915T120000
DTEND;TZID=Europe/Berlin:20190915T150000
DTSTAMP:20260421T181801
CREATED:20190809T082057Z
LAST-MODIFIED:20200809T083457Z
UID:3897-1568548800-1568559600@shalomchor.de
SUMMARY:Jazz- und Klezmer-Matinée
DESCRIPTION:„Shpil\, Klezmer\, shpil!“ ist der Titel eines Liedes\, das zum Repertoire dieses Ensembles zählt\, das seit fast zwanzig Jahren zusammen mit dem ShalomChor in Mönchengladbach die Musik der osteuropäischen Juden sowie den Swing-Jazz pflegt. \n15.09.2019 und 27.10.2019\, ab 12 Uhr \nMolzmühle \nIn Bollenberg 41 \n41844 Wegberg – Rickelrath \nTel. 02434 99770
URL:https://shalomchor.de/event/jazz-und-klezmer-matinee/
LOCATION:Molzmühle\, In Bollenberg 41\, Wegberg - Rickelrath\, NRW\, 41844\, Deutschland
CATEGORIES:Shpil, Klezmer, shpil!,Veranstaltung
ATTACH;FMTTYPE=image/jpeg:https://shalomchor.de/wp-content/uploads/2016/04/BL7A5543-Kom.jpg
END:VEVENT
BEGIN:VEVENT
DTSTART;TZID=Europe/Berlin:20190917T190000
DTEND;TZID=Europe/Berlin:20190917T210000
DTSTAMP:20260421T181801
CREATED:20190624T072843Z
LAST-MODIFIED:20200809T083452Z
UID:3855-1568746800-1568754000@shalomchor.de
SUMMARY:KLEZTREFF
DESCRIPTION:Klezmer Workshop im BIS
URL:https://shalomchor.de/event/kleztreff-5/
LOCATION:BIS -zentrum\, Bismarckstr. 97-99\, Mönchengladbach\, NRW\, 41061\, Deutschland
CATEGORIES:Shpil, Klezmer, shpil!,Veranstaltung
ATTACH;FMTTYPE=image/png:https://shalomchor.de/wp-content/uploads/2016/04/SKS_Instrumental.png
END:VEVENT
END:VCALENDAR