BEGIN:VCALENDAR
VERSION:2.0
PRODID:-//ShalomChor - ECPv6.15.18//NONSGML v1.0//EN
CALSCALE:GREGORIAN
METHOD:PUBLISH
X-ORIGINAL-URL:https://shalomchor.de
X-WR-CALDESC:Veranstaltungen für ShalomChor
REFRESH-INTERVAL;VALUE=DURATION:PT1H
X-Robots-Tag:noindex
X-PUBLISHED-TTL:PT1H
BEGIN:VTIMEZONE
TZID:Europe/Berlin
BEGIN:DAYLIGHT
TZOFFSETFROM:+0100
TZOFFSETTO:+0200
TZNAME:CEST
DTSTART:20180325T010000
END:DAYLIGHT
BEGIN:STANDARD
TZOFFSETFROM:+0200
TZOFFSETTO:+0100
TZNAME:CET
DTSTART:20181028T010000
END:STANDARD
BEGIN:DAYLIGHT
TZOFFSETFROM:+0100
TZOFFSETTO:+0200
TZNAME:CEST
DTSTART:20190331T010000
END:DAYLIGHT
BEGIN:STANDARD
TZOFFSETFROM:+0200
TZOFFSETTO:+0100
TZNAME:CET
DTSTART:20191027T010000
END:STANDARD
BEGIN:DAYLIGHT
TZOFFSETFROM:+0100
TZOFFSETTO:+0200
TZNAME:CEST
DTSTART:20200329T010000
END:DAYLIGHT
BEGIN:STANDARD
TZOFFSETFROM:+0200
TZOFFSETTO:+0100
TZNAME:CET
DTSTART:20201025T010000
END:STANDARD
END:VTIMEZONE
BEGIN:VEVENT
DTSTART;TZID=Europe/Berlin:20190313T200000
DTEND;TZID=Europe/Berlin:20190313T213000
DTSTAMP:20260422T043236
CREATED:20190101T121557Z
LAST-MODIFIED:20200809T083608Z
UID:3296-1552507200-1552512600@shalomchor.de
SUMMARY:4. Vortreffen zur Israelreise (18.-25.4.19)
DESCRIPTION:
URL:https://shalomchor.de/event/4-vortreffen-zur-israelreise18-25-4-19/
LOCATION:Paul-Schneider-Haus\, Charlottenstraße 16\, Mönchengladbach\, 41065\, Deutschland
CATEGORIES:Veranstaltung
ATTACH;FMTTYPE=image/jpeg:https://shalomchor.de/wp-content/uploads/2017/04/Jerusalem.jpg
END:VEVENT
BEGIN:VEVENT
DTSTART;TZID=Europe/Berlin:20190319T190000
DTEND;TZID=Europe/Berlin:20190319T210000
DTSTAMP:20260422T043236
CREATED:20190101T121720Z
LAST-MODIFIED:20200809T083602Z
UID:3299-1553022000-1553029200@shalomchor.de
SUMMARY:KLEZTREFF - 3
DESCRIPTION:www.bis-zentrum.info/programm/10714
URL:https://shalomchor.de/event/3299/
LOCATION:BIS -zentrum\, Bismarckstr. 97-99\, Mönchengladbach\, NRW\, 41061\, Deutschland
CATEGORIES:Veranstaltung
END:VEVENT
END:VCALENDAR