BEGIN:VCALENDAR
VERSION:2.0
PRODID:-//ShalomChor - ECPv6.15.18//NONSGML v1.0//EN
CALSCALE:GREGORIAN
METHOD:PUBLISH
X-WR-CALNAME:ShalomChor
X-ORIGINAL-URL:https://shalomchor.de
X-WR-CALDESC:Veranstaltungen für ShalomChor
REFRESH-INTERVAL;VALUE=DURATION:PT1H
X-Robots-Tag:noindex
X-PUBLISHED-TTL:PT1H
BEGIN:VTIMEZONE
TZID:Europe/Berlin
BEGIN:DAYLIGHT
TZOFFSETFROM:+0100
TZOFFSETTO:+0200
TZNAME:CEST
DTSTART:20180325T010000
END:DAYLIGHT
BEGIN:STANDARD
TZOFFSETFROM:+0200
TZOFFSETTO:+0100
TZNAME:CET
DTSTART:20181028T010000
END:STANDARD
BEGIN:DAYLIGHT
TZOFFSETFROM:+0100
TZOFFSETTO:+0200
TZNAME:CEST
DTSTART:20190331T010000
END:DAYLIGHT
BEGIN:STANDARD
TZOFFSETFROM:+0200
TZOFFSETTO:+0100
TZNAME:CET
DTSTART:20191027T010000
END:STANDARD
BEGIN:DAYLIGHT
TZOFFSETFROM:+0100
TZOFFSETTO:+0200
TZNAME:CEST
DTSTART:20200329T010000
END:DAYLIGHT
BEGIN:STANDARD
TZOFFSETFROM:+0200
TZOFFSETTO:+0100
TZNAME:CET
DTSTART:20201025T010000
END:STANDARD
END:VTIMEZONE
BEGIN:VEVENT
DTSTART;TZID=Europe/Berlin:20190109T200000
DTEND;TZID=Europe/Berlin:20190109T220000
DTSTAMP:20260422T080221
CREATED:20190101T120657Z
LAST-MODIFIED:20200809T083646Z
UID:3280-1547064000-1547071200@shalomchor.de
SUMMARY:1. Probe n.d. Weihnachtsferien
DESCRIPTION:1. Probe n.d.Weihnachtsferien
URL:https://shalomchor.de/event/3280/
LOCATION:Paul-Schneider-Haus\, Charlottenstraße 16\, Mönchengladbach\, 41065\, Deutschland
CATEGORIES:Shalom Chor
END:VEVENT
BEGIN:VEVENT
DTSTART;TZID=Europe/Berlin:20190115T190000
DTEND;TZID=Europe/Berlin:20190115T210000
DTSTAMP:20260422T080221
CREATED:20190101T120940Z
LAST-MODIFIED:20200809T083639Z
UID:3283-1547578800-1547586000@shalomchor.de
SUMMARY:KLEZTREFF -1
DESCRIPTION:Leitung: Horst Couson und Johannes Goedeke\, „Shpil\, Klezmer\, shpil!“\n\nDer Workshop richtet sich an Musiker und Musikerinnen\, die Freude an der Klezmer-Musik haben und über Grundfertigkeiten auf ihren Instrumenten (Tasten-\, Streich-\, und Blasinstrumente) verfügen.\nInstrument und Notenständer bitte mitbringen. \n  \nZur Anmeldung: \nwww.bis-zentrum.info/programm/10714
URL:https://shalomchor.de/event/kleztreff-1/
LOCATION:BIS -zentrum\, Bismarckstr. 97-99\, Mönchengladbach\, NRW\, 41061\, Deutschland
CATEGORIES:Veranstaltung
ATTACH;FMTTYPE=image/jpeg:https://shalomchor.de/wp-content/uploads/2017/09/BL7A5543.jpg
END:VEVENT
BEGIN:VEVENT
DTSTART;TZID=Europe/Berlin:20190130T200000
DTEND;TZID=Europe/Berlin:20190130T213000
DTSTAMP:20260422T080221
CREATED:20190101T121134Z
LAST-MODIFIED:20200809T083634Z
UID:3286-1548878400-1548883800@shalomchor.de
SUMMARY:2. Vortreffen zur Israelreise  (18.-25.4.19)
DESCRIPTION:2. Vortreffen zur Israelreise(18.-25.4.19)
URL:https://shalomchor.de/event/2-vortreffen-zur-israelreise/
LOCATION:Paul-Schneider-Haus\, Charlottenstraße 16\, Mönchengladbach\, 41065\, Deutschland
CATEGORIES:Veranstaltung
ATTACH;FMTTYPE=image/jpeg:https://shalomchor.de/wp-content/uploads/2017/04/Jerusalem.jpg
END:VEVENT
END:VCALENDAR